BEGIN:VCALENDAR
PRODID:-//Microsoft Corporation//Outlook 12.0 MIMEDIR//EN
VERSION:2.0
CALSCALE:GREGORIAN
BEGIN:VEVENT
UID: 899a5ff9-fdb0-47f5-8977-b952c20701b5
SUMMARY:9. klasside lõpukell
DTSTAMP:20260529T100000
DTSTART:20260529T100000
DTEND:20260529T140000
LOCATION:
DESCRIPTION: <p>9. klasside lõpukell</p><p><strong>Link: </strong>https://krk.edu.ee/et/sundmuste-kalender/9-klasside-lopukell</p><p><strong>Hind: </strong></p>
STATUS:CONFIRMED
SEQUENCE:3
X-ALT-DESC;FMTTYPE=text/html:<p>9. klasside lõpukell</p><p><strong>Link: </strong>https://krk.edu.ee/et/sundmuste-kalender/9-klasside-lopukell</p><p><strong>Hind: </strong></p>
X-MICROSOFT-CDO-BUSYSTATUS:OOF
X-MICROSOFT-CDO-IMPORTANCE:1
X-MICROSOFT-DISALLOW-COUNTER:FALSE
X-MS-OLK-ALLOWEXTERNCHECK:TRUE
X-MS-OLK-CONFTYPE:0
X-MICROSOFT-CDO-ALLDAYEVENT:
X-MICROSOFT-MSNCALENDAR-ALLDAYEVENT:
END:VEVENT
END:VCALENDAR